BEGIN:VCALENDAR
VERSION:2.0
PRODID:-//ChamberMaster//Event Calendar 2.0//EN
METHOD:PUBLISH
X-PUBLISHED-TTL:P3D
REFRESH-INTERVAL:P3D
CALSCALE:GREGORIAN
BEGIN:VEVENT
DTSTART:20200813T000000Z
DTEND:20200813T023000Z
X-MICROSOFT-CDO-ALLDAYEVENT:FALSE
SUMMARY:Social Impact Professional Certificate Program
DESCRIPTION:Offered in partnership with the Center for Social Impact (CSI) at Utah Valley University\, Social Impact Professional Certificate Program is a unique learning experience focused on developing outstanding social impact professionals. Join a select group of peers from corporate\, government\, education and non-profit organizations for this intensive program. The Program offers an exceptional selection of faculty and facilitators that will guide you in discovering the strategies\, skills\, resources and networks needed to create and maximize your social impact opportunities. Upon successful completion of the Program\, you will receive the Social Impact Professional Certificate and recognition at a special closing ceremony. Develop the expertise\, credibility and confidence to advance your career and make meaningful contributions in your organization\, industry and community. Earning the Social Impact Professional Certificate is a great way to demonstrate your ability and professional achievement.
X-ALT-DESC;FMTTYPE=text/html:Offered in partnership with the Center for Social Impact (CSI) at Utah Valley University\, Social Impact Professional Certificate Program is a unique learning experience focused on developing outstanding social impact professionals. Join a select group of peers from corporate\, government\, education and non-profit organizations for this intensive program. The Program offers an exceptional selection of faculty and facilitators that will guide you in discovering the strategies\, skills\, resources and networks needed to create and maximize your social impact opportunities. Upon successful completion of the Program\, you will receive the Social Impact Professional Certificate and recognition at a special closing ceremony. Develop the expertise\, credibility and confidence to advance your career and make meaningful contributions in your organization\, industry and community. Earning the Social Impact Professional Certificate is a great way to demonstrate your ability and professional achievement.
LOCATION:UVU's North Lehi Campus at Thanksgiving Point
UID:e.1646.4208
SEQUENCE:3
DTSTAMP:20260422T052226Z
URL:http://thechamber.chambermaster.com/events/details/social-impact-professional-certificate-program-4208
END:VEVENT

END:VCALENDAR
