BEGIN:VCALENDAR
VERSION:2.0
PRODID:-//ChamberMaster//Event Calendar 2.0//EN
METHOD:PUBLISH
X-PUBLISHED-TTL:P3D
REFRESH-INTERVAL:P3D
CALSCALE:GREGORIAN
BEGIN:VEVENT
DTSTART:20200603T233000Z
DTEND:20200604T030000Z
X-MICROSOFT-CDO-ALLDAYEVENT:FALSE
SUMMARY:SHRM Learning System: Human Resources Certification
DESCRIPTION:Prepare to become a Human Resources Certified Professional (SHRM CP) or Senior Certified Professional (SHRM SCP) through an authorized course that will prepare and allow you to test for SHRM certification (Society for Human Resource Management). This program provides an up-to-date overview of key human resource management concepts and trends and is based on the current SHRM body of knowledge. Set yourself apart from other HR professionals and open the door to new career opportunities with this valuable credential. Books and Materials included.
X-ALT-DESC;FMTTYPE=text/html:Prepare to become a Human Resources Certified Professional (SHRM CP) or Senior Certified Professional (SHRM SCP) through an authorized course that will prepare and allow you to test for SHRM certification (Society for Human Resource Management). This program provides an up-to-date overview of key human resource management concepts and trends and is based on the current SHRM body of knowledge. Set yourself apart from other HR professionals and open the door to new career opportunities with this valuable credential. Books and Materials included.
LOCATION:Location: UVU Lehi Campus TBA
UID:e.1646.4192
SEQUENCE:3
DTSTAMP:20260419T120945Z
URL:http://thechamber.chambermaster.com/events/details/shrm-learning-system-human-resources-certification-4192
END:VEVENT

END:VCALENDAR
