BEGIN:VCALENDAR
VERSION:2.0
PRODID:-//ChamberMaster//Event Calendar 2.0//EN
METHOD:PUBLISH
X-PUBLISHED-TTL:P3D
REFRESH-INTERVAL:P3D
CALSCALE:GREGORIAN
BEGIN:VEVENT
DTSTART:20210102T010000Z
DTEND:20210215T190000Z
X-MICROSOFT-CDO-ALLDAYEVENT:FALSE
SUMMARY:rooftop private bubble dining
DESCRIPTION:Enjoy a delicious family-style meal from the seclusion and safety of a private bubble while you enjoy the view of the Park City mountains from our heated rooftop terrace
X-ALT-DESC;FMTTYPE=text/html:Enjoy a delicious family-style meal from the seclusion and safety of a private bubble while you enjoy the view of the Park City mountains from our heated rooftop terrace
LOCATION:The Kimball Terrace
UID:e.1646.4228
SEQUENCE:3
DTSTAMP:20260421T201625Z
URL:http://thechamber.chambermaster.com/events/details/rooftop-private-bubble-dining-4228
END:VEVENT

END:VCALENDAR
