BEGIN:VCALENDAR
VERSION:2.0
PRODID:-//ChamberMaster//Event Calendar 2.0//EN
METHOD:PUBLISH
X-PUBLISHED-TTL:P3D
REFRESH-INTERVAL:P3D
CALSCALE:GREGORIAN
BEGIN:VEVENT
DTSTART:20210120T010000Z
DTEND:20210120T040000Z
X-MICROSOFT-CDO-ALLDAYEVENT:FALSE
SUMMARY:PRINCIPLES OF SOFTWARE TESTING
DESCRIPTION:This course is designed to provide students with an in-depth examination of software testing skills. At the completion of this course students should be able to develop a test plan\, design\, implement and execute software test cases using a variety of testing methodologies\, and evaluate and report on the results of their tests. Students will work with several different types of tests and testing environments\, and will understand through case studies how to apply these to real life testing situations. They will be able to use risk analysis techniques to decide what to test and how to know when their testing is complete enough to ship a product with acceptable risk.
X-ALT-DESC;FMTTYPE=text/html:This course is designed to provide students with an in-depth examination of software testing skills. At the completion of this course students should be able to develop a test plan\, design\, implement and execute software test cases using a variety of testing methodologies\, and evaluate and report on the results of their tests. Students will work with several different types of tests and testing environments\, and will understand through case studies how to apply these to real life testing situations. They will be able to use risk analysis techniques to decide what to test and how to know when their testing is complete enough to ship a product with acceptable risk.
LOCATION:UVU Lehi TBA
UID:e.1646.4224
SEQUENCE:3
DTSTAMP:20260423T033356Z
URL:http://thechamber.chambermaster.com/events/details/principles-of-software-testing-4224
END:VEVENT

END:VCALENDAR
