BEGIN:VCALENDAR
VERSION:2.0
PRODID:-//ChamberMaster//Event Calendar 2.0//EN
METHOD:PUBLISH
X-PUBLISHED-TTL:P3D
REFRESH-INTERVAL:P3D
CALSCALE:GREGORIAN
BEGIN:VEVENT
DTSTART;VALUE=DATE:20140514
DTEND;VALUE=DATE:20140515
TRANSP:TRANSPARENT
X-MICROSOFT-CDO-ALLDAYEVENT:TRUE
SUMMARY:Orem Forum 2014
DESCRIPTION:Orem Businesses will have the opportunity to meet with City officials\, including the new Mayor\, to discuss business and economic development activities.  Lunch will be provided.
X-ALT-DESC;FMTTYPE=text/html:Orem Businesses will have the opportunity to meet with City officials\, including the new Mayor\, to discuss business and economic development activities. &nbsp\;Lunch will be provided.
LOCATION:SCERA Theater\, 700 South and State Street in Orem
UID:e.1646.2420
SEQUENCE:3
DTSTAMP:20260425T195223Z
URL:http://thechamber.chambermaster.com/events/details/orem-forum-2014-05-14-2014-2420
END:VEVENT

END:VCALENDAR
